BEGIN:VCALENDAR
VERSION:2.0
PRODID:-//Tukios.com/
BEGIN:VEVENT
UID:a7a29d13-e9b5-4423-a093-0fbf9ba6a1c3@www.lindseyfh.com
DTSTAMP:20260420T050634Z
DTSTART:20260429T150000Z
DTEND:20260429T160000Z
SUMMARY:Graveside Service
DESCRIPTION:
URL:https://www.lindseyfh.com/obituaries/margaret-margie-singerman
LOCATION:Evergreen Cemetery P.O. Box 474  New Philadelphia OH 44663
GEO:40.4897871;-81.4456706
END:VEVENT
END:VCALENDAR